BEGIN:VCALENDAR
VERSION:2.0
PRODID:spatie/icalendar-generator
DESCRIPTION:Events from Enes Karić
X-WR-CALDESC:Events from Enes Karić
REFRESH-INTERVAL;VALUE=DURATION:PT1440M
X-PUBLISHED-TTL:PT1440M
BEGIN:VTIMEZONE
TZID:Etc/GMT+0
BEGIN:STANDARD
DTSTART:20231124T000000Z
TZOFFSETFROM:+0000
TZOFFSETTO:+0000
END:STANDARD
END:VTIMEZONE
BEGIN:VTIMEZONE
TZID:UTC
BEGIN:STANDARD
DTSTART:20250724T102157Z
TZOFFSETFROM:+0000
TZOFFSETTO:+0000
END:STANDARD
END:VTIMEZONE
BEGIN:VEVENT
UID:2-2
DTSTAMP:20260420T102157Z
SUMMARY:Višnjevo
LOCATION:
ORGANIZER;CN=hvl7u:MAILTO:admin@eneskaric.ba
RRULE:FREQ=YEARLY;BYMONTH=08;BYDAY=20;UNTIL=20241213T000000Z
DTSTART;TZID=Etc/GMT+0;VALUE=DATE:20240820
DTEND;TZID=Etc/GMT+0;VALUE=DATE:20240821
X-ALT-DESC;FMTTYPE=TEXT/HTML:test
CATEGORIES:General
URL;VALUE=URI:https://eneskaric.ba/mc-events/visnjevo/?mc_id=2
END:VEVENT
END:VCALENDAR